BEGIN:VCALENDAR
VERSION:2.0
PRODID:-//MACS - ECPv6.15.20//NONSGML v1.0//EN
CALSCALE:GREGORIAN
METHOD:PUBLISH
X-ORIGINAL-URL:https://www.macspartnership.com
X-WR-CALDESC:Events for MACS
REFRESH-INTERVAL;VALUE=DURATION:PT1H
X-Robots-Tag:noindex
X-PUBLISHED-TTL:PT1H
BEGIN:VTIMEZONE
TZID:UTC
BEGIN:STANDARD
TZOFFSETFROM:+0000
TZOFFSETTO:+0000
TZNAME:UTC
DTSTART:20230101T000000
END:STANDARD
END:VTIMEZONE
BEGIN:VEVENT
DTSTART;TZID=UTC:20260126T000000
DTEND;TZID=UTC:20260126T235959
DTSTAMP:20260423T170142
CREATED:20250417T155808Z
LAST-MODIFIED:20250417T155810Z
UID:6128-1769385600-1769471999@www.macspartnership.com
SUMMARY:Early Childhood Education Skills Competition
DESCRIPTION:
URL:https://www.macspartnership.com/event/early-childhood-education-skills-competition-3/
END:VEVENT
BEGIN:VEVENT
DTSTART;TZID=UTC:20251204T090000
DTEND;TZID=UTC:20251204T110000
DTSTAMP:20260423T170142
CREATED:20250813T135337Z
LAST-MODIFIED:20250813T135340Z
UID:6252-1764838800-1764846000@www.macspartnership.com
SUMMARY:AC Meeting at District 218
DESCRIPTION:
URL:https://www.macspartnership.com/event/ac-meeting-at-district-218/
END:VEVENT
BEGIN:VEVENT
DTSTART;TZID=UTC:20251202T083000
DTEND;TZID=UTC:20251202T143000
DTSTAMP:20260423T170142
CREATED:20251119T153809Z
LAST-MODIFIED:20251119T153811Z
UID:6336-1764664200-1764685800@www.macspartnership.com
SUMMARY:A+IT Essentials Curriculum Network Meeting @ 218
DESCRIPTION:
URL:https://www.macspartnership.com/event/ait-essentials-curriculum-network-meeting-218/
END:VEVENT
BEGIN:VEVENT
DTSTART;TZID=UTC:20251114T000000
DTEND;TZID=UTC:20251114T235959
DTSTAMP:20260423T170142
CREATED:20250417T155655Z
LAST-MODIFIED:20250417T155657Z
UID:6125-1763078400-1763164799@www.macspartnership.com
SUMMARY:Trades Career Day
DESCRIPTION:
URL:https://www.macspartnership.com/event/trades-career-day/
END:VEVENT
BEGIN:VEVENT
DTSTART;TZID=UTC:20251112T083000
DTEND;TZID=UTC:20251112T093000
DTSTAMP:20260423T170142
CREATED:20250813T135057Z
LAST-MODIFIED:20250813T135100Z
UID:6250-1762936200-1762939800@www.macspartnership.com
SUMMARY:CEO Meeting
DESCRIPTION:
URL:https://www.macspartnership.com/event/ceo-meeting-2/
END:VEVENT
BEGIN:VEVENT
DTSTART;TZID=UTC:20251106T090000
DTEND;TZID=UTC:20251106T110000
DTSTAMP:20260423T170142
CREATED:20250813T134959Z
LAST-MODIFIED:20250813T135002Z
UID:6248-1762419600-1762426800@www.macspartnership.com
SUMMARY:AC Meeting at Argo HS
DESCRIPTION:
URL:https://www.macspartnership.com/event/ac-meeting-at-argo-hs/
END:VEVENT
BEGIN:VEVENT
DTSTART;TZID=UTC:20251029T093000
DTEND;TZID=UTC:20251029T113000
DTSTAMP:20260423T170142
CREATED:20250813T134501Z
LAST-MODIFIED:20250813T134505Z
UID:6246-1761730200-1761737400@www.macspartnership.com
SUMMARY:CTE Teacher Training Cohort Information Session
DESCRIPTION:At MVCC\, T Building
URL:https://www.macspartnership.com/event/cte-teacher-training-cohort-information-session/
END:VEVENT
BEGIN:VEVENT
DTSTART;TZID=UTC:20251028T000000
DTEND;TZID=UTC:20251028T235959
DTSTAMP:20260423T170142
CREATED:20250417T155537Z
LAST-MODIFIED:20250417T155539Z
UID:6123-1761609600-1761695999@www.macspartnership.com
SUMMARY:Pastry Skills Competition
DESCRIPTION:
URL:https://www.macspartnership.com/event/pastry-skills-competition-3/
END:VEVENT
BEGIN:VEVENT
DTSTART;TZID=UTC:20251007T080000
DTEND;TZID=UTC:20251007T170000
DTSTAMP:20260423T170142
CREATED:20250813T134353Z
LAST-MODIFIED:20250813T144107Z
UID:6244-1759824000-1759856400@www.macspartnership.com
SUMMARY:ISBE EFE Directors' Meeting
DESCRIPTION:
URL:https://www.macspartnership.com/event/isbe-efe-directors-meeting/
END:VEVENT
BEGIN:VEVENT
DTSTART;TZID=UTC:20251006T000000
DTEND;TZID=UTC:20251006T235959
DTSTAMP:20260423T170142
CREATED:20250417T155426Z
LAST-MODIFIED:20250417T155428Z
UID:6121-1759708800-1759795199@www.macspartnership.com
SUMMARY:First Responder Career Day
DESCRIPTION:
URL:https://www.macspartnership.com/event/first-responder-career-day-2/
END:VEVENT
BEGIN:VEVENT
DTSTART;TZID=UTC:20251003T000000
DTEND;TZID=UTC:20251003T235959
DTSTAMP:20260423T170142
CREATED:20250417T143714Z
LAST-MODIFIED:20250813T134201Z
UID:6116-1759449600-1759535999@www.macspartnership.com
SUMMARY:Manufacturing Day
DESCRIPTION:
URL:https://www.macspartnership.com/event/oai-manufacturing-day-2/
END:VEVENT
BEGIN:VEVENT
DTSTART;TZID=UTC:20251002T090000
DTEND;TZID=UTC:20251002T150000
DTSTAMP:20260423T170142
CREATED:20250813T134055Z
LAST-MODIFIED:20250813T134058Z
UID:6241-1759395600-1759417200@www.macspartnership.com
SUMMARY:Welding Teacher Training
DESCRIPTION:At MVCC\, Welding Lab
URL:https://www.macspartnership.com/event/welding-teacher-training/
END:VEVENT
BEGIN:VEVENT
DTSTART;TZID=UTC:20251002T090000
DTEND;TZID=UTC:20251002T110000
DTSTAMP:20260423T170142
CREATED:20250813T133625Z
LAST-MODIFIED:20250813T133629Z
UID:6239-1759395600-1759402800@www.macspartnership.com
SUMMARY:AC Meeting at Oak Lawn HS
DESCRIPTION:
URL:https://www.macspartnership.com/event/ac-meeting-at-oak-lawn-hs/
END:VEVENT
BEGIN:VEVENT
DTSTART;TZID=UTC:20250926T120000
DTEND;TZID=UTC:20250926T150000
DTSTAMP:20260423T170142
CREATED:20250813T133401Z
LAST-MODIFIED:20250813T133405Z
UID:6237-1758888000-1758898800@www.macspartnership.com
SUMMARY:Dual Credit Articulation Meeting - AET\, ELT\, LAN\, and MDT
DESCRIPTION:At MVCC\, T Building
URL:https://www.macspartnership.com/event/dual-credit-articulation-meeting-aet-elt-lan-and-mdt/
END:VEVENT
BEGIN:VEVENT
DTSTART;TZID=UTC:20250926T000000
DTEND;TZID=UTC:20250926T235959
DTSTAMP:20260423T170142
CREATED:20250417T143547Z
LAST-MODIFIED:20250417T143549Z
UID:6114-1758844800-1758931199@www.macspartnership.com
SUMMARY:Health Care Career Fair
DESCRIPTION:
URL:https://www.macspartnership.com/event/health-care-career-fair-4/
END:VEVENT
BEGIN:VEVENT
DTSTART;TZID=UTC:20250923T120000
DTEND;TZID=UTC:20250923T150000
DTSTAMP:20260423T170142
CREATED:20250813T131941Z
LAST-MODIFIED:20250813T131945Z
UID:6233-1758628800-1758639600@www.macspartnership.com
SUMMARY:Dual Credit Articulation Meeting - AUT\, MRT\, WLD
DESCRIPTION:At MVCC\, T Building
URL:https://www.macspartnership.com/event/dual-credit-articulation-meeting-aut-mrt-wld/
END:VEVENT
BEGIN:VEVENT
DTSTART;TZID=UTC:20250922T120000
DTEND;TZID=UTC:20250922T150000
DTSTAMP:20260423T170142
CREATED:20250813T131148Z
LAST-MODIFIED:20250813T131152Z
UID:6231-1758542400-1758553200@www.macspartnership.com
SUMMARY:Dual Credit Articulation Meeting - BUS\, CIS\, ECE\, OFT\, RTM
DESCRIPTION:At MVCC\, T Building
URL:https://www.macspartnership.com/event/dual-credit-articulation-meeting-bus-cis-ece-oft-rtm/
END:VEVENT
BEGIN:VEVENT
DTSTART;TZID=UTC:20250911T090000
DTEND;TZID=UTC:20250911T110000
DTSTAMP:20260423T170142
CREATED:20250813T130345Z
LAST-MODIFIED:20250814T170155Z
UID:6228-1757581200-1757588400@www.macspartnership.com
SUMMARY:AC/CAC Meeting at Reavis HS
DESCRIPTION:
URL:https://www.macspartnership.com/event/ac-meeting-at-reavis-hs/
END:VEVENT
BEGIN:VEVENT
DTSTART;TZID=UTC:20250814T083000
DTEND;TZID=UTC:20250814T093000
DTSTAMP:20260423T170142
CREATED:20250813T130156Z
LAST-MODIFIED:20250813T130159Z
UID:6226-1755160200-1755163800@www.macspartnership.com
SUMMARY:CEO Meeting
DESCRIPTION:
URL:https://www.macspartnership.com/event/ceo-meeting/
END:VEVENT
BEGIN:VEVENT
DTSTART;TZID=UTC:20250429T000000
DTEND;TZID=UTC:20250429T235959
DTSTAMP:20260423T170142
CREATED:20240423T172053Z
LAST-MODIFIED:20240423T172057Z
UID:5577-1745884800-1745971199@www.macspartnership.com
SUMMARY:Culinary Skills Competition
DESCRIPTION:
URL:https://www.macspartnership.com/event/culinary-skills-competition-2/
END:VEVENT
BEGIN:VEVENT
DTSTART;TZID=UTC:20250411T000000
DTEND;TZID=UTC:20250411T235959
DTSTAMP:20260423T170142
CREATED:20240423T171839Z
LAST-MODIFIED:20240903T143711Z
UID:5573-1744329600-1744415999@www.macspartnership.com
SUMMARY:Technology Skills Competition
DESCRIPTION:
URL:https://www.macspartnership.com/event/technology-skills-competition-tentative/
END:VEVENT
BEGIN:VEVENT
DTSTART;TZID=UTC:20250404T000000
DTEND;TZID=UTC:20250404T235959
DTSTAMP:20260423T170142
CREATED:20240423T171947Z
LAST-MODIFIED:20240502T132852Z
UID:5575-1743724800-1743811199@www.macspartnership.com
SUMMARY:Business Skills Competition
DESCRIPTION:
URL:https://www.macspartnership.com/event/business-skills-competition/
END:VEVENT
BEGIN:VEVENT
DTSTART;TZID=UTC:20250320T000000
DTEND;TZID=UTC:20250320T235959
DTSTAMP:20260423T170142
CREATED:20240423T170311Z
LAST-MODIFIED:20240423T170314Z
UID:5557-1742428800-1742515199@www.macspartnership.com
SUMMARY:Job Shadow Day
DESCRIPTION:
URL:https://www.macspartnership.com/event/job-shadow-day-2/
END:VEVENT
BEGIN:VEVENT
DTSTART;TZID=UTC:20250307T090000
DTEND;TZID=UTC:20250307T120000
DTSTAMP:20260423T170142
CREATED:20240423T171606Z
LAST-MODIFIED:20250213T232912Z
UID:5571-1741338000-1741348800@www.macspartnership.com
SUMMARY:MDT/CAD and 3D Skills Competition
DESCRIPTION:
URL:https://www.macspartnership.com/event/mdt-cad-and-3d-skills-competition-tentative/
END:VEVENT
BEGIN:VEVENT
DTSTART;TZID=UTC:20250224T000000
DTEND;TZID=UTC:20250224T235959
DTSTAMP:20260423T170142
CREATED:20240423T171507Z
LAST-MODIFIED:20240423T171510Z
UID:5569-1740355200-1740441599@www.macspartnership.com
SUMMARY:Automotive Skills Competition
DESCRIPTION:
URL:https://www.macspartnership.com/event/automotive-skills-competition-2/
END:VEVENT
BEGIN:VEVENT
DTSTART;TZID=UTC:20250220T093000
DTEND;TZID=UTC:20250220T120000
DTSTAMP:20260423T170142
CREATED:20240423T170355Z
LAST-MODIFIED:20240423T170358Z
UID:5558-1740043800-1740052800@www.macspartnership.com
SUMMARY:Public Service Career Showcase
DESCRIPTION:
URL:https://www.macspartnership.com/event/public-service-career-showcase-2/
END:VEVENT
BEGIN:VEVENT
DTSTART;TZID=UTC:20250214T000000
DTEND;TZID=UTC:20250214T235959
DTSTAMP:20260423T170142
CREATED:20240423T171432Z
LAST-MODIFIED:20240423T171435Z
UID:5567-1739491200-1739577599@www.macspartnership.com
SUMMARY:Welding Skills Competition
DESCRIPTION:
URL:https://www.macspartnership.com/event/welding-skills-competition-2/
END:VEVENT
BEGIN:VEVENT
DTSTART;TZID=UTC:20250203T000000
DTEND;TZID=UTC:20250203T235959
DTSTAMP:20260423T170142
CREATED:20240423T171338Z
LAST-MODIFIED:20240423T171341Z
UID:5565-1738540800-1738627199@www.macspartnership.com
SUMMARY:Early Childhood Education Skills Competition
DESCRIPTION:
URL:https://www.macspartnership.com/event/early-childhood-education-skills-competition-2/
END:VEVENT
BEGIN:VEVENT
DTSTART;TZID=UTC:20241108T000000
DTEND;TZID=UTC:20241108T235959
DTSTAMP:20260423T170142
CREATED:20240423T170005Z
LAST-MODIFIED:20240423T170009Z
UID:5555-1731024000-1731110399@www.macspartnership.com
SUMMARY:Mechanical Technologies/Trades Career Fair
DESCRIPTION:
URL:https://www.macspartnership.com/event/mechanical-technologies-trades-career-fair-2/
END:VEVENT
BEGIN:VEVENT
DTSTART;TZID=UTC:20241022T000000
DTEND;TZID=UTC:20241022T235959
DTSTAMP:20260423T170142
CREATED:20240423T171209Z
LAST-MODIFIED:20240423T171212Z
UID:5561-1729555200-1729641599@www.macspartnership.com
SUMMARY:Pastry Skills Competition
DESCRIPTION:
URL:https://www.macspartnership.com/event/pastry-skills-competition-2/
END:VEVENT
END:VCALENDAR