BEGIN:VCALENDAR
VERSION:2.0
PRODID:-//MACS - ECPv6.15.20//NONSGML v1.0//EN
CALSCALE:GREGORIAN
METHOD:PUBLISH
X-ORIGINAL-URL:https://www.macspartnership.com
X-WR-CALDESC:Events for MACS
REFRESH-INTERVAL;VALUE=DURATION:PT1H
X-Robots-Tag:noindex
X-PUBLISHED-TTL:PT1H
BEGIN:VTIMEZONE
TZID:UTC
BEGIN:STANDARD
TZOFFSETFROM:+0000
TZOFFSETTO:+0000
TZNAME:UTC
DTSTART:20210101T000000
END:STANDARD
END:VTIMEZONE
BEGIN:VEVENT
DTSTART;TZID=UTC:20240301T090000
DTEND;TZID=UTC:20240301T120000
DTSTAMP:20260423T223049
CREATED:20240117T201634Z
LAST-MODIFIED:20240117T201637Z
UID:5031-1709283600-1709294400@www.macspartnership.com
SUMMARY:MDT/CAD and 3D Skills Competition
DESCRIPTION:
URL:https://www.macspartnership.com/event/mdt-cad-and-3d-skills-competition/
END:VEVENT
BEGIN:VEVENT
DTSTART;TZID=UTC:20240223T090000
DTEND;TZID=UTC:20240223T120000
DTSTAMP:20260423T223049
CREATED:20240117T175843Z
LAST-MODIFIED:20240117T175846Z
UID:5029-1708678800-1708689600@www.macspartnership.com
SUMMARY:IDEA Competition (ABS\, DDE\, and HLR)
DESCRIPTION:
URL:https://www.macspartnership.com/event/idea-competition-abs-dde-and-hlr/
LOCATION:Moraine Valley Community College\, 9000 W College Pkwy\, Palos Hills\, IL\, 60465\, United States
END:VEVENT
BEGIN:VEVENT
DTSTART;TZID=UTC:20240222T093000
DTEND;TZID=UTC:20240222T120000
DTSTAMP:20260423T223049
CREATED:20240109T180937Z
LAST-MODIFIED:20240109T180940Z
UID:5022-1708594200-1708603200@www.macspartnership.com
SUMMARY:Public Service Career Showcase
DESCRIPTION:
URL:https://www.macspartnership.com/event/public-service-career-showcase/
END:VEVENT
BEGIN:VEVENT
DTSTART;TZID=UTC:20240216T090000
DTEND;TZID=UTC:20240216T120000
DTSTAMP:20260423T223049
CREATED:20240117T175627Z
LAST-MODIFIED:20240117T175727Z
UID:5027-1708074000-1708084800@www.macspartnership.com
SUMMARY:IDEA Competition (Argo\, Sandburg\, and Reavis)
DESCRIPTION:
URL:https://www.macspartnership.com/event/idea-competition-argo-sandburg-and-reavis/
LOCATION:Moraine Valley Community College\, 9000 W College Pkwy\, Palos Hills\, IL\, 60465\, United States
END:VEVENT
BEGIN:VEVENT
DTSTART;TZID=UTC:20240212T000000
DTEND;TZID=UTC:20240212T235959
DTSTAMP:20260423T223049
CREATED:20230426T175150Z
LAST-MODIFIED:20230426T175153Z
UID:4745-1707696000-1707782399@www.macspartnership.com
SUMMARY:Early Childhood Education Skills Competition
DESCRIPTION:
URL:https://www.macspartnership.com/event/early-childhood-education-skills-competition/
END:VEVENT
BEGIN:VEVENT
DTSTART;TZID=UTC:20240209T000000
DTEND;TZID=UTC:20240209T235959
DTSTAMP:20260423T223049
CREATED:20230426T175053Z
LAST-MODIFIED:20230426T175056Z
UID:4743-1707436800-1707523199@www.macspartnership.com
SUMMARY:Welding Skills Competition
DESCRIPTION:
URL:https://www.macspartnership.com/event/welding-skills-competition/
END:VEVENT
BEGIN:VEVENT
DTSTART;TZID=UTC:20240205T000000
DTEND;TZID=UTC:20240205T235959
DTSTAMP:20260423T223049
CREATED:20230426T175016Z
LAST-MODIFIED:20230426T175019Z
UID:4741-1707091200-1707177599@www.macspartnership.com
SUMMARY:Automotive Skills Competition
DESCRIPTION:
URL:https://www.macspartnership.com/event/automotive-skills-competition/
END:VEVENT
BEGIN:VEVENT
DTSTART;TZID=UTC:20231117T000000
DTEND;TZID=UTC:20231117T235959
DTSTAMP:20260423T223049
CREATED:20230426T174654Z
LAST-MODIFIED:20230426T174657Z
UID:4735-1700179200-1700265599@www.macspartnership.com
SUMMARY:Mechanical Technologies/Trades Career Fair
DESCRIPTION:
URL:https://www.macspartnership.com/event/mechanical-technologies-trades-career-fair/
END:VEVENT
BEGIN:VEVENT
DTSTART;TZID=UTC:20231031T000000
DTEND;TZID=UTC:20231031T235959
DTSTAMP:20260423T223049
CREATED:20230426T174936Z
LAST-MODIFIED:20230426T174939Z
UID:4739-1698710400-1698796799@www.macspartnership.com
SUMMARY:Pastry Skills Competition
DESCRIPTION:
URL:https://www.macspartnership.com/event/pastry-skills-competition/
END:VEVENT
BEGIN:VEVENT
DTSTART;TZID=UTC:20231013T000000
DTEND;TZID=UTC:20231013T235959
DTSTAMP:20260423T223049
CREATED:20230426T174611Z
LAST-MODIFIED:20230426T174615Z
UID:4733-1697155200-1697241599@www.macspartnership.com
SUMMARY:Health Care Career Fair
DESCRIPTION:
URL:https://www.macspartnership.com/event/health-care-career-fair-2/
END:VEVENT
BEGIN:VEVENT
DTSTART;TZID=UTC:20231004T000000
DTEND;TZID=UTC:20231004T235959
DTSTAMP:20260423T223049
CREATED:20230426T174529Z
LAST-MODIFIED:20230925T134126Z
UID:4731-1696377600-1696463999@www.macspartnership.com
SUMMARY:OAI Manufacturing Day
DESCRIPTION:
URL:https://www.macspartnership.com/event/oai-manufacturing-day-tentative/
END:VEVENT
BEGIN:VEVENT
DTSTART;TZID=UTC:20231002T000000
DTEND;TZID=UTC:20231002T235959
DTSTAMP:20260423T223049
CREATED:20230426T174312Z
LAST-MODIFIED:20230426T174354Z
UID:4728-1696204800-1696291199@www.macspartnership.com
SUMMARY:First Responder Career Day
DESCRIPTION:
URL:https://www.macspartnership.com/event/first-responder-fire-safety-career-day-2/
END:VEVENT
BEGIN:VEVENT
DTSTART;TZID=UTC:20230418T080000
DTEND;TZID=UTC:20230418T170000
DTSTAMP:20260423T223049
CREATED:20220807T170241Z
LAST-MODIFIED:20220808T165346Z
UID:4053-1681804800-1681837200@www.macspartnership.com
SUMMARY:Culinary Skills Competition
DESCRIPTION:
URL:https://www.macspartnership.com/event/high-school-culinary-skills-competition/
END:VEVENT
BEGIN:VEVENT
DTSTART;VALUE=DATE:20230310
DTEND;VALUE=DATE:20230311
DTSTAMP:20260423T223049
CREATED:20220807T170835Z
LAST-MODIFIED:20221004T191910Z
UID:4059-1678406400-1678492799@www.macspartnership.com
SUMMARY:Tech Challenge
DESCRIPTION:
URL:https://www.macspartnership.com/event/high-school-tech-challenge-finals/
LOCATION:Moraine Valley Community College\, 9000 W College Pkwy\, Palos Hills\, IL\, 60465\, United States
END:VEVENT
BEGIN:VEVENT
DTSTART;TZID=UTC:20230224T000000
DTEND;TZID=UTC:20230224T235959
DTSTAMP:20260423T223049
CREATED:20221118T155716Z
LAST-MODIFIED:20230119T141155Z
UID:4570-1677196800-1677283199@www.macspartnership.com
SUMMARY:IDEA Competition
DESCRIPTION:
URL:https://www.macspartnership.com/event/idea-competition-shepard-richards-and-eisenhower/
END:VEVENT
BEGIN:VEVENT
DTSTART;TZID=UTC:20230217T000000
DTEND;TZID=UTC:20230217T235959
DTSTAMP:20260423T223049
CREATED:20221118T155615Z
LAST-MODIFIED:20230119T141135Z
UID:4568-1676592000-1676678399@www.macspartnership.com
SUMMARY:IDEA Competition
DESCRIPTION:
URL:https://www.macspartnership.com/event/idea-competition-argo-reavis-and-sandburg/
END:VEVENT
BEGIN:VEVENT
DTSTART;VALUE=DATE:20230210
DTEND;VALUE=DATE:20230211
DTSTAMP:20260423T223049
CREATED:20220807T170104Z
LAST-MODIFIED:20220808T165425Z
UID:4047-1675987200-1676073599@www.macspartnership.com
SUMMARY:Welding Skills Competition
DESCRIPTION:
URL:https://www.macspartnership.com/event/high-school-welding-skills-competition/
END:VEVENT
BEGIN:VEVENT
DTSTART;VALUE=DATE:20230206
DTEND;VALUE=DATE:20230207
DTSTAMP:20260423T223049
CREATED:20220807T165524Z
LAST-MODIFIED:20221004T191846Z
UID:4045-1675641600-1675727999@www.macspartnership.com
SUMMARY:Automotive Skills Competition
DESCRIPTION:
URL:https://www.macspartnership.com/event/high-school-automotive-skills-competition-qualifying/
END:VEVENT
BEGIN:VEVENT
DTSTART;TZID=UTC:20230203T090000
DTEND;TZID=UTC:20230203T120000
DTSTAMP:20260423T223049
CREATED:20221013T185409Z
LAST-MODIFIED:20230119T141115Z
UID:4271-1675414800-1675425600@www.macspartnership.com
SUMMARY:AET Field Trip
DESCRIPTION:
URL:https://www.macspartnership.com/event/aet-field-trip-argo-shepard-and-sandburg/
END:VEVENT
BEGIN:VEVENT
DTSTART;TZID=UTC:20230127T090000
DTEND;TZID=UTC:20230127T120000
DTSTAMP:20260423T223049
CREATED:20221013T185300Z
LAST-MODIFIED:20230119T141041Z
UID:4269-1674810000-1674820800@www.macspartnership.com
SUMMARY:AET Field Trip
DESCRIPTION:
URL:https://www.macspartnership.com/event/aet-field-trip-richards-eisenhower-and-reavis/
END:VEVENT
BEGIN:VEVENT
DTSTART;TZID=UTC:20221115T103000
DTEND;TZID=UTC:20221115T140000
DTSTAMP:20260423T223049
CREATED:20221004T191353Z
LAST-MODIFIED:20221004T191421Z
UID:4165-1668508200-1668520800@www.macspartnership.com
SUMMARY:Welding Field Trip - Argo Community High School
DESCRIPTION:
URL:https://www.macspartnership.com/event/welding-field-trip-argo-community-high-school/
END:VEVENT
BEGIN:VEVENT
DTSTART;TZID=UTC:20221111T103000
DTEND;TZID=UTC:20221111T140000
DTSTAMP:20260423T223049
CREATED:20221004T191250Z
LAST-MODIFIED:20221004T191250Z
UID:4163-1668162600-1668175200@www.macspartnership.com
SUMMARY:Welding Field Trip - Stagg High School
DESCRIPTION:
URL:https://www.macspartnership.com/event/welding-field-trip-stagg-high-school/
END:VEVENT
BEGIN:VEVENT
DTSTART;VALUE=DATE:20221104
DTEND;VALUE=DATE:20221105
DTSTAMP:20260423T223049
CREATED:20220807T165258Z
LAST-MODIFIED:20220808T165045Z
UID:4043-1667520000-1667606399@www.macspartnership.com
SUMMARY:Trades Expo
DESCRIPTION:
URL:https://www.macspartnership.com/event/trades-expo/
END:VEVENT
BEGIN:VEVENT
DTSTART;VALUE=DATE:20221025
DTEND;VALUE=DATE:20221026
DTSTAMP:20260423T223049
CREATED:20220807T165213Z
LAST-MODIFIED:20221017T021731Z
UID:4041-1666656000-1666742399@www.macspartnership.com
SUMMARY:Pastry Skills Competition
DESCRIPTION:
URL:https://www.macspartnership.com/event/high-school-pastry-skills-competition/
END:VEVENT
BEGIN:VEVENT
DTSTART;VALUE=DATE:20221005
DTEND;VALUE=DATE:20221006
DTSTAMP:20260423T223049
CREATED:20220807T165017Z
LAST-MODIFIED:20220808T164752Z
UID:4039-1664928000-1665014399@www.macspartnership.com
SUMMARY:Manufacturing Day
DESCRIPTION:
URL:https://www.macspartnership.com/event/manufacturing-day/
END:VEVENT
BEGIN:VEVENT
DTSTART;VALUE=DATE:20221003
DTEND;VALUE=DATE:20221004
DTSTAMP:20260423T223049
CREATED:20220807T164942Z
LAST-MODIFIED:20220807T191652Z
UID:4037-1664755200-1664841599@www.macspartnership.com
SUMMARY:First Responder/Fire Safety Career Day
DESCRIPTION:
URL:https://www.macspartnership.com/event/first-responder-fire-safety-career-day/
END:VEVENT
BEGIN:VEVENT
DTSTART;VALUE=DATE:20220930
DTEND;VALUE=DATE:20221001
DTSTAMP:20260423T223049
CREATED:20220807T164906Z
LAST-MODIFIED:20220807T181908Z
UID:4035-1664496000-1664582399@www.macspartnership.com
SUMMARY:Health Care Career Fair
DESCRIPTION:Students will attend presentations by health care providers and educators to learn about careers in the health care field.
URL:https://www.macspartnership.com/event/health-care-career-fair/
END:VEVENT
END:VCALENDAR